BEGIN:VCALENDAR
VERSION:2.0
PRODID:-//wp-events-plugin.com//6.4.7.3//EN
TZID:Europe/Berlin
X-WR-TIMEZONE:Europe/Berlin
BEGIN:VEVENT
UID:54@kulturportal-guetersloh.de
DTSTART;TZID=Europe/Berlin:20230920T200000
DTEND;TZID=Europe/Berlin:20230920T230000
DTSTAMP:20230327T132607Z
URL:https://kulturportal-guetersloh.de/veranstaltungen/kiez-jazz-matthias-
 klause/
SUMMARY:Matthias Klause | Kiez-Jazz
DESCRIPTION:Kiez-Jazz – das ist das alternative Jazz-Format im Kesselhaus
 .\n\nHier wird Jazz in seiner ursprünglichen Form präsentiert: Für jede
 rmann zugänglich\, verständlich und anfassbar.\n\nEinlass: 19:30 Uhr\nSt
 art: 20:00 Uhr\nEintritt: 10\,- EUR (nur Abendkasse)\nDie Veranstaltung is
 t bestuhlt. Freie Platzwahl.
ATTACH;FMTTYPE=image/jpeg:https://kulturportal-guetersloh.de/wp-content/up
 loads/2023/02/8bb5dfa60fa9b42gf4bd8922aec63844.jpg
LOCATION:Kesselhaus der Weberei\, Bogenstraße 1-8\, Gütersloh\, 33330\, D
 eutschland
GEO:51.902013;8.375647
X-APPLE-STRUCTURED-LOCATION;VALUE=URI;X-ADDRESS=Bogenstraße 1-8\, Gütersl
 oh\, 33330\, Deutschland;X-APPLE-RADIUS=100;X-TITLE=Kesselhaus der Weberei
 :geo:51.902013,8.375647
END:VEVENT
BEGIN:VTIMEZONE
TZID:Europe/Berlin
X-LIC-LOCATION:Europe/Berlin
BEGIN:DAYLIGHT
DTSTART:20230326T030000
TZOFFSETFROM:+0100
TZOFFSETTO:+0200
TZNAME:CEST
END:DAYLIGHT
END:VTIMEZONE
END:VCALENDAR