BEGIN:VCALENDAR
VERSION:2.0
PRODID:-//wp-events-plugin.com//6.4.7.3//EN
TZID:Europe/Berlin
X-WR-TIMEZONE:Europe/Berlin
BEGIN:VEVENT
UID:288@kulturportal-guetersloh.de
DTSTART;TZID=Europe/Berlin:20250721T110000
DTEND;TZID=Europe/Berlin:20250725T140000
DTSTAMP:20250415T134739Z
URL:https://kulturportal-guetersloh.de/veranstaltungen/kulturrucksack-mala
 telier-in-der-galerie/
SUMMARY:Kulturrucksack | Malatelier in der Galerie
DESCRIPTION:Wir holen das Atelier in die Galerie!\n\n\nIm Workshop dreht si
 ch alles um Kreativität: Ihr lernt die Grundlagen des Zeichnens\, malt mi
 t Acrylfarben und probiert euch im Spachteln für abstrakte Malerei. Auße
 rdem könnt ihr eurer Fantasie freien Lauf lassen und Skulpturen aus Stein
  modellieren.\n\nBegrenzte Plätze verfügbar\, sichere dir deinen Platz j
 etzt!\n\nDieser Workshop findet in den Ferien statt:\nMo. 21.07.2025 bis F
 r. 25.07.2025\nJeweils 11:00 Uhr bis 14:00 Uhr\n\nWorkshopleitung:\nSerpil
  Neuhaus\n(Gütersloher Künstlerin)\n\nIst dieser Termin bereits voll?\nW
 ir haben viele weitere Angebote.
ATTACH;FMTTYPE=image/jpeg:https://kulturportal-guetersloh.de/wp-content/up
 loads/2024/03/kulturrucksack_nrw_bonn_2017_c_barbara_frommann_593_72dpi.jp
 g
LOCATION:Serpil-Neuhaus-Galerie\, Hohenzollernstraße 35\, Gütersloh\, 333
 30\, Deutschland
GEO:51.910552;8.372995
X-APPLE-STRUCTURED-LOCATION;VALUE=URI;X-ADDRESS=Hohenzollernstraße 35\, G
 ütersloh\, 33330\, Deutschland;X-APPLE-RADIUS=100;X-TITLE=Serpil-Neuhaus-
 Galerie:geo:51.910552,8.372995
END:VEVENT
BEGIN:VTIMEZONE
TZID:Europe/Berlin
X-LIC-LOCATION:Europe/Berlin
BEGIN:DAYLIGHT
DTSTART:20250330T030000
TZOFFSETFROM:+0100
TZOFFSETTO:+0200
TZNAME:CEST
END:DAYLIGHT
END:VTIMEZONE
END:VCALENDAR