BEGIN:VCALENDAR
VERSION:2.0
PRODID:-//wp-events-plugin.com//6.4.7.3//EN
TZID:Europe/Berlin
X-WR-TIMEZONE:Europe/Berlin
BEGIN:VEVENT
UID:280@kulturportal-guetersloh.de
DTSTART;TZID=Europe/Berlin:20250509T170000
DTEND;TZID=Europe/Berlin:20250509T180000
DTSTAMP:20250401T095450Z
URL:https://kulturportal-guetersloh.de/veranstaltungen/lesen-gegen-das-ver
 gessen-2025-lesegarten-stadtbibliothek/
SUMMARY:Lesen gegen das Vergessen 2025 - Lesegarten (Stadtbibliothek)
DESCRIPTION:Erinnerung an die Bücherverbrennung  \n\nGütersloh beteiligt
  sich an den bundesweiten Gedenklesungen zum Jahrestag der Bücherverbrenn
 ung 1933. Am 9. und 10. Mai 2025 finden in Gütersloh zwei Lesungen im Rah
 men des bundesweiten Gedenkens an die nationalsozialistischen Bücherverbr
 ennungen statt. Die Veranstaltungsreihe „Lesen gegen das Vergessen“ er
 innert bereits zum siebten Mal an Autor*innen und deren Werke um den 10. M
 ai 1933 den Flammen zum Opfer fielen.\n\nDie erste Lesung findet am Freita
 g\, 9. Mai\, um 17 Uhr im Lesegarten der Stadtbibliothek statt. Hier lesen
  insbesondere Schüler*innen der Anne-Frank-Gesamtschule aus den Texten ve
 rfolgter Schriftsteller*innen.\n\nAm Samstag\, 10. Mai\, um 11 Uhr in der 
 Apostelkirche folgt die zweite Lesung mit einer Auswahl an Gedichten und P
 rosatexten von Josefa Metz\, Ilse Llosa\, Jenny Aloni\, Erich Kästner\, A
 nne Frank und Felix Fechenbach. Ein aktueller Bezug wird durch die Lesung 
 aus „Radio Sarajewo“ von Tijan Sila hergestellt. Musikalisch begleitet
  wird die Veranstaltung am Samstag vom After8Chor. Um 12 Uhr spricht Pfarr
 erin Wiebke Heine das Friedensgebet.\n\nDie Teilnahme an beiden Veranstalt
 ungen ist kostenlos und ohne Anmeldung möglich. Die Lesung am Samstag wir
 d zu Dokumentationszwecken gefilmt und anschließend auf dem Kulturportal 
 Gütersloh veröffentlicht.  Weitere Informationen gibt es unter www.kult
 urportal-guetersloh.de oder bei Lilian Wohnhas\, Fachbereich Kultur\, unte
 r 05241-82 3659 oder lilian.wohnhas@guetersloh.de.\n\n9. Mai 2025\, 17 Uhr
 \, Lesegarten der Stadtbibliothek und 10. Mai 2025\, 11 Uhr\, Apostelkirch
 e\n\nEine Anmeldung ist nicht erforderlich\, Eintritt frei\n\nHintergrund:
  \n\nDie Veranstaltungsreihe „Lesen gegen das Vergessen“ wurde 2019 v
 om Fachbereich Kultur in Zusammenarbeit mit der Kommunikationstrainerin un
 d Stimmcoach Almuth Wessel ins Leben gerufen – als Reaktion auf die Erei
 gnisse in Chemnitz. Seitdem findet sie jährlich statt. Im Mittelpunkt st
 ehen Texte von Autorinnen und Autoren\, deren Werke 1933 öffentlich verbr
 annt wurden. Die Veranstaltungen setzen ein klares Zeichen gegen das Verge
 ssen und mahnen\, die schrecklichen Verbrechen des Nationalsozialismus nie
 mals aus dem Bewusstsein zu verlieren.
ATTACH;FMTTYPE=image/jpeg:https://kulturportal-guetersloh.de/wp-content/up
 loads/2025/04/lgdv-2025_neutral.png
LOCATION:Stadtbibliothek Gütersloh\, Lesecafé\, Blessenstätte 1\, Güter
 sloh\, 33330\, Deutschland
GEO:51.904141;8.376823
X-APPLE-STRUCTURED-LOCATION;VALUE=URI;X-ADDRESS=Blessenstätte 1\, Gütersl
 oh\, 33330\, Deutschland;X-APPLE-RADIUS=100;X-TITLE=Stadtbibliothek Güter
 sloh\, Lesecafé:geo:51.904141,8.376823
END:VEVENT
BEGIN:VTIMEZONE
TZID:Europe/Berlin
X-LIC-LOCATION:Europe/Berlin
BEGIN:DAYLIGHT
DTSTART:20250330T030000
TZOFFSETFROM:+0100
TZOFFSETTO:+0200
TZNAME:CEST
END:DAYLIGHT
END:VTIMEZONE
END:VCALENDAR