BEGIN:VCALENDAR
VERSION:2.0
PRODID:-//wp-events-plugin.com//6.4.7.3//EN
TZID:Europe/Berlin
X-WR-TIMEZONE:Europe/Berlin
BEGIN:VEVENT
UID:318@kulturportal-guetersloh.de
DTSTART;TZID=Europe/Berlin;VALUE=DATE:20250918
DTEND;TZID=Europe/Berlin;VALUE=DATE:20250929
DTSTAMP:20250723T133235Z
URL:https://kulturportal-guetersloh.de/veranstaltungen/museummobil-ein-mob
 iles-museumsangebot-vom-haus-der-geschichte-nrw/
SUMMARY:MuseumMobil - Ein mobiles Museumsangebot vom Haus der Geschichte NR
 W
DESCRIPTION:Anlässlich des 200jährigen Stadtjubiläums macht MuseumMobil 
 im September Station in Gütersloh:\n\nVom 19. bis zum 28. September 2025 
 öffnet der MuseumMobil-Container täglich zentral auf dem Theodor-Heuss-P
 latz seine Türen. Wir freuen uns auf interessante Gespräche über Geschi
 chte und Geschichten aus NRW und dem Kreis Gütersloh. Die Beteiligung am 
 Bürgertag am 21. September sowie unser Sammelsamstag am 27. September 202
 5 von 14-17 Uhr im Stadtmuseum runden den Aufenthalt im Kreis Gütersloh a
 b.\n\nZur Eröffnung von „MuseumMobil“ in der Stadthalle Gütersloh am
  Donnerstag\, den 18. September 2025 um 20 Uhr laden wir Sie herzlich ein.
  An diesem Abend begrüßen Sie Bürgermeister der Stadt Gütersloh Matthi
 as Trepper und der Präsident der Stiftung Haus der Geschichte Nordrhein-W
 estfalen Prof. Dr. Hans Walter Hütter. Bertelsmann\, Miele\, Hagedorn ode
 r auch die Mestemacher-Gruppe – große Namen prägen das Bild von Güter
 sloh. Unzweifelhaft ist Gütersloh aber auch abseits dieser Weltmarken dan
 k starker mittelständischer Unternehmen ein florierender Wirtschaftsstand
 ort. Doch welchen Einfluss hat ein derartiges wirtschaftliches Wachstum au
 f die Bevölkerung vor Ort\, deren Alltag und deren Bildungsbiografien? Di
 eser und weiteren Fragen widmen sich die langjährige Bürgermeisterin der
  Stadt Gütersloh Maria Unger\, die stellvertretende Leiterin der Volkshoc
 hschule Gütersloh Dr. Mariella Gronenthal und der Historiker Dr. Christop
 h Lorke vom LWL-Institut für westfälische Regionalgeschichte in einem Po
 diumsgespräch.\n\nWir bitten um Anmeldung bis zum 12. September 2025 unte
 r veranstaltungen@hdgnrw.de oder unter 0211 513613 33 (auch Kontakt für R
 ückfragen). \n\nMuseumMobil in Gütersloh ist eine Kooperation mit dem Fa
 chbereich Kultur der Stadt Gütersloh
ATTACH;FMTTYPE=image/jpeg:https://kulturportal-guetersloh.de/wp-content/up
 loads/2025/07/hdg-nrw-109_klein.jpg
LOCATION:Theodor-Heuss-Platz\, Gütersloh\, Theodor-Heuss-Platz\, 33330 Gü
 tersloh\, Deutschland
X-APPLE-STRUCTURED-LOCATION;VALUE=URI;X-ADDRESS=Theodor-Heuss-Platz\, 33330
  Gütersloh\, Deutschland;X-APPLE-RADIUS=100;X-TITLE=Theodor-Heuss-Platz\,
  Gütersloh:geo:0,0
END:VEVENT
BEGIN:VTIMEZONE
TZID:Europe/Berlin
X-LIC-LOCATION:Europe/Berlin
BEGIN:DAYLIGHT
DTSTART:20250330T030000
TZOFFSETFROM:+0100
TZOFFSETTO:+0200
TZNAME:CEST
END:DAYLIGHT
END:VTIMEZONE
END:VCALENDAR