BEGIN:VCALENDAR
VERSION:2.0
PRODID:-//wp-events-plugin.com//6.4.7.3//EN
TZID:Europe/Berlin
X-WR-TIMEZONE:Europe/Berlin
BEGIN:VEVENT
UID:254@kulturportal-guetersloh.de
DTSTART;TZID=Europe/Berlin:20241201T110000
DTEND;TZID=Europe/Berlin:20241201T110000
DTSTAMP:20241120T102350Z
URL:https://kulturportal-guetersloh.de/veranstaltungen/paul-maar-das-schie
 fe-maerchen-trio-ab-7-jahren/
SUMMARY:Paul Maar & Das schiefe Märchen-Trio (ab 7 Jahren)
DESCRIPTION:40 Jahre Stadtbibliothek - Schiefe Märchen und schräge Geschi
 chten - musikalische Lesung\n\n“Das Schiefe Märchen-Trio” - das sind
  Paul Maar\, Wolfgang Stute und Konrad Haas.\n\nTICKETS\n\n8\,-€ (freie 
 Platzwahl)\n\n2016 haben sich die drei zusammengeschlossen\, um die Büch
 er von Paul Maar auf eine neue\, künstlerische Weise in Töne umzusetze
 n. Mit Gitarre\, Percussions (Wolfgang Stute) sowie Querflöte\, Blockflo
 ̈te und Keyboards (Konrad Haas) werden Maars Geschichten lebendig.\n\nDie
  Musiker\, Komponisten\, Produzenten und Arrangeure aus Hannover begleiten
  Maars ruhige und angenehme Stimme akustisch und nehmen die Zuschauer mit 
 auf eine besondere Fantasiereise. Paul Maar erzählt die Geschichte und s
 ingt und musiziert zusammen mit Wolfgang Stute und Konrad Haas die eigens 
 dafür geschriebenen und komponierten Lieder.\n\nÜber Paul Maar\n\nPaul 
 Maar ist einer der beliebtesten deutschen Kinder- und Jugendbuchautoren. E
 r wurde 1937 im bayerischen Schweinfurt geboren. Nachdem er in Stuttgart M
 alerei und Kunstgeschichte studierte\, arbeitete er zunächst als Kunstle
 hrer am Albert-Schweitzer-Gymnasium in Crailsheim.\n\nMit dem Schreiben vo
 n Kinderbüchern begann er nach der Geburt seiner eigenen Kinder. Sein er
 stes Kinderbuch war "Der tätowierte Hund". Es erschien 1968. Internationa
 le Bekanntheit erlangte er vor allem mit seinen Geschichten vom Sams\, ein
 em frechen Fabelwesen\, welches bei seinem Adoptivpapa Herrn Taschenbier l
 ebt.\n\nWolfgang Stute\nWolfgang Stute\, geboren 1951\, begann seine musik
 alische Karriere als Student bei dem Gitarrenprofessor Hans-Michael Koch. 
 Später wurde er Musikalischer Leiter beim Hannoverschen Theater der Juge
 nd\, Musikalischer Leiter des E.T.A.-Hoffmann-Theaters in Bamberg und erhi
 elt einen Lehrauftrag für ästhetische Kommunikation an der Evangelisch
 en Fachhochschule Hannover.\n\nMit Sitz in Hannover ist er eine angesehene
  Persönlichkeit in der lokalen Musikszene und bekannt für seine Fähi
 gkeiten als Komponist\, Produzent\, Gitarrist und Percussionist. Er hat za
 hlreiche Alben veröffentlicht und wird für seine Beiträge zu verschi
 edenen Musicals und Theaterproduktionen hoch geschätzt\, darunter seine 
 Arbeit als musikalischer Leiter für Heinz Rudolf Kunzes Adaptation von S
 hakespeares "Sommernachtstraum" und seine Leitung von Kunzes Karriere von 
 2004 bis 2010. Wolfgang Stute gründete auch das Projekt "Räuberzivil" 
 mit Heinz Rudolf Kunze.\n\nIn den letzten Jahren hat Stute mit dem Comedia
 n Matthias Brodowy zusammengearbeitet\, mit dem er 2013 den "Deutschen Kle
 inkunstpreis" im Mainzer Unterhaus erhalten hat.\nAußerdem arbeitet er mi
 t dem Autoren Bernhard Schlink (Der Vorleser) seit Jahren zusammen und beg
 leitet ihn musikalisch bei einigen seiner Lesungen.\n\nKonrad Haas\nKonrad
  Haas\, geboren 1954\, war gern mit seiner Band "Die Hausmeister" auf Tour
 . Er ist auch als Musikdirektor tätig und leitet Theater-\, Opern-\, Mä
 rchen- oder Musicalaufführungen mit verschiedenen Orchesterbesetzungen un
 d von ihm komponierter Musik.\n\nNach seinem Musikstudium in Paris\, wo er
  Gitarre und Querflöte studierte\, tourte er einige Jahre mit seiner Ban
 d "Steinwolke" durch Deutschland und angrenzende Länder. Später arbeit
 ete er für zwei Jahre an der ARD-Serie "Lindenstraße"\, für die er di
 e Kinderband "Mini Pigs" und den erfolgreichen Hit "Die Kuh auf der Autoba
 hn" erfand. Im Laufe seiner Karriere schrieb er Filmmusik\, komponierte\, 
 arrangierte und leitete als Musikdirektor über 50 Bühnenproduktionen. 
 Darüber hinaus tritt er regelmäßig live auf der Bühne auf.
ATTACH;FMTTYPE=image/jpeg:https://kulturportal-guetersloh.de/wp-content/up
 loads/2024/11/Das-schiefe-Maerchen-Trio_web.jpg
LOCATION:Stadthalle Gütersloh\, Friedrichstraße 10\, Gütersloh\, 33330\,
  Deutschland
GEO:51.906379;8.371567
X-APPLE-STRUCTURED-LOCATION;VALUE=URI;X-ADDRESS=Friedrichstraße 10\, Güte
 rsloh\, 33330\, Deutschland;X-APPLE-RADIUS=100;X-TITLE=Stadthalle Gütersl
 oh:geo:51.906379,8.371567
END:VEVENT
BEGIN:VTIMEZONE
TZID:Europe/Berlin
X-LIC-LOCATION:Europe/Berlin
BEGIN:STANDARD
DTSTART:20241027T020000
TZOFFSETFROM:+0200
TZOFFSETTO:+0100
TZNAME:CET
END:STANDARD
END:VTIMEZONE
END:VCALENDAR