BEGIN:VCALENDAR
VERSION:2.0
PRODID:-//wp-events-plugin.com//6.4.7.3//EN
TZID:Europe/Berlin
X-WR-TIMEZONE:Europe/Berlin
BEGIN:VEVENT
UID:29@kulturportal-guetersloh.de
DTSTART;TZID=Europe/Berlin:20221210T110000
DTEND;TZID=Europe/Berlin:20221210T130000
DTSTAMP:20221017T100832Z
URL:https://kulturportal-guetersloh.de/veranstaltungen/pop-up-karten-selbe
 r-gestalten/
SUMMARY:Pop-up Karten selber gestalten
DESCRIPTION:Karten mit Überraschungseffekt. Sie beinhalten eine besondere 
 Falttechnik aus Papier\, die erst beim Aufklappen seine Wirkung entfaltet.
 \n\nWir zeigen euch wie ihr eine Karte für jeden Anlass selber basteln k
 önnt.\n\nMaximal 10 Teilnehmer*innen\n\nOrt: Stadtbibliothek Gütersloh\,
  Blessenstätte 1\, 33330 Gütersloh\n\nZeit: 10.12.22\, 11-13 Uhr
ATTACH;FMTTYPE=image/jpeg:https://kulturportal-guetersloh.de/wp-content/up
 loads/2022/10/stationary-gfe23d41fe_1920.jpg
LOCATION:\, \, 
GEO:51.904132;8.376818
X-APPLE-STRUCTURED-LOCATION;VALUE=URI;X-ADDRESS=\, ;X-APPLE-RADIUS=100;X-TI
 TLE=:geo:51.904132,8.376818
END:VEVENT
BEGIN:VTIMEZONE
TZID:Europe/Berlin
X-LIC-LOCATION:Europe/Berlin
BEGIN:STANDARD
DTSTART:20221030T020000
TZOFFSETFROM:+0200
TZOFFSETTO:+0100
TZNAME:CET
END:STANDARD
END:VTIMEZONE
END:VCALENDAR