BEGIN:VCALENDAR
VERSION:2.0
PRODID:-//wp-events-plugin.com//6.4.7.3//EN
TZID:Europe/Berlin
X-WR-TIMEZONE:Europe/Berlin
BEGIN:VEVENT
UID:265@kulturportal-guetersloh.de
DTSTART;TZID=Europe/Berlin:20250129T170000
DTEND;TZID=Europe/Berlin:20250129T200000
DTSTAMP:20250127T083227Z
URL:https://kulturportal-guetersloh.de/veranstaltungen/weberei-workshop-ne
 uausrichtung-des-soziokulturellen-zentrums-weberei-in-guetersloh/
SUMMARY:Weberei Workshop - Neuausrichtung des soziokulturellen Zentrums Web
 erei in Gütersloh
DESCRIPTION:Am 29. Januar 2025 lädt der Fachbereich Kultur der Stadt Güte
 rsloh von 17 bis 20 Uhr zu einem Workshop zur Neuausrichtung des soziokult
 urellen Zentrums "Die Weberei" ein. Im kleinen Saal der Stadthalle können
  Interessierte ihre Ideen und Perspektiven einbringen. Eine Anmeldung übe
 r das Kulturportal wird erbeten.
ATTACH;FMTTYPE=image/jpeg:https://kulturportal-guetersloh.de/wp-content/up
 loads/2024/12/weberei.jpg
LOCATION:Kleiner Saal Stadthalle\, Friedrichstraße 10\, Gütersloh\, 33330
 \, Deutschland
GEO:51.906453;8.371698
X-APPLE-STRUCTURED-LOCATION;VALUE=URI;X-ADDRESS=Friedrichstraße 10\, Güte
 rsloh\, 33330\, Deutschland;X-APPLE-RADIUS=100;X-TITLE=Kleiner Saal Stadth
 alle:geo:51.906453,8.371698
END:VEVENT
BEGIN:VTIMEZONE
TZID:Europe/Berlin
X-LIC-LOCATION:Europe/Berlin
BEGIN:STANDARD
DTSTART:20241027T020000
TZOFFSETFROM:+0200
TZOFFSETTO:+0100
TZNAME:CET
END:STANDARD
END:VTIMEZONE
END:VCALENDAR